BEGIN:VCALENDAR
VERSION:2.0
PRODID:-//Outdoor Survival//Rezervacni system//CS
CALSCALE:GREGORIAN
METHOD:PUBLISH
BEGIN:VEVENT
UID:osr-event-10@wp1.dev.esoul.cz
DTSTAMP:20260425T011108Z
DTSTART:20260612T150000Z
DTEND:20260614T110000Z
SUMMARY:FAMILY SURVIVAL - 3 DNY
LOCATION:Domažlicko
DESCRIPTION:Zábavnou formou se děti s rodiči učí techniky přežití\, rozdělávání ohně...\\n\\nVíce informací: https://wp1.dev.esoul.cz/?osr_event=10
STATUS:CONFIRMED
END:VEVENT
END:VCALENDAR
