BEGIN:VCALENDAR
VERSION:2.0
PRODID:-//Outdoor Survival//Rezervacni system//CS
CALSCALE:GREGORIAN
METHOD:PUBLISH
BEGIN:VEVENT
UID:osr-event-11@wp1.dev.esoul.cz
DTSTAMP:20260425T011107Z
DTSTART:20260619T150000Z
DTEND:20260621T110000Z
SUMMARY:SURVIVAL - ÚROVEŇ 1
LOCATION:Domažlicko
DESCRIPTION:Probíhá formou všeobecného seznámení\, nauky a poznávání.\\n\\nVíce informací: https://wp1.dev.esoul.cz/?osr_event=11
STATUS:CONFIRMED
END:VEVENT
END:VCALENDAR
