BEGIN:VCALENDAR
VERSION:2.0
PRODID:-//Outdoor Survival//Rezervacni system//CS
CALSCALE:GREGORIAN
METHOD:PUBLISH
BEGIN:VEVENT
UID:osr-event-12@wp1.dev.esoul.cz
DTSTAMP:20260425T011043Z
DTSTART:20260619T150000Z
DTEND:20260621T110000Z
SUMMARY:FAMILY SURVIVAL - BRNO
LOCATION:Brněnsko
DESCRIPTION:Zábavnou formou se děti s rodiči učí techniky přežití\, rozdělávání ohně...\\n\\nVíce informací: https://wp1.dev.esoul.cz/?osr_event=12
STATUS:CONFIRMED
END:VEVENT
END:VCALENDAR
