BEGIN:VCALENDAR
VERSION:2.0
PRODID:-//Outdoor Survival//Rezervacni system//CS
CALSCALE:GREGORIAN
METHOD:PUBLISH
BEGIN:VEVENT
UID:osr-event-16@wp1.dev.esoul.cz
DTSTAMP:20260425T011032Z
DTSTART:20260731T150000Z
DTEND:20260802T110000Z
SUMMARY:FAMILY SURVIVAL - 3 DNY
LOCATION:Domažlicko
DESCRIPTION:Zábavnou formou se děti s rodiči učí techniky přežití\, rozdělávání ohně...\\n\\nVíce informací: https://wp1.dev.esoul.cz/?osr_event=16
STATUS:CONFIRMED
END:VEVENT
END:VCALENDAR
