BEGIN:VCALENDAR
VERSION:2.0
PRODID:-//Outdoor Survival//Rezervacni system//CS
CALSCALE:GREGORIAN
METHOD:PUBLISH
BEGIN:VEVENT
UID:osr-event-17@wp1.dev.esoul.cz
DTSTAMP:20260425T011043Z
DTSTART:20260807T150000Z
DTEND:20260809T110000Z
SUMMARY:SURVIVAL - ÚROVEŇ 1
LOCATION:Domažlicko
DESCRIPTION:Probíhá formou všeobecného seznámení\, nauky a poznávání.\\n\\nVíce informací: https://wp1.dev.esoul.cz/?osr_event=17
STATUS:CONFIRMED
END:VEVENT
END:VCALENDAR
