BEGIN:VCALENDAR
VERSION:2.0
PRODID:-//Outdoor Survival//Rezervacni system//CS
CALSCALE:GREGORIAN
METHOD:PUBLISH
BEGIN:VEVENT
UID:osr-event-19@wp1.dev.esoul.cz
DTSTAMP:20260425T011045Z
DTSTART:20260828T150000Z
DTEND:20260830T110000Z
SUMMARY:FAMILY SURVIVAL - 3 DNY
LOCATION:Domažlicko
DESCRIPTION:Zábavnou formou se děti s rodiči učí techniky přežití\, rozdělávání ohně...\\n\\nVíce informací: https://wp1.dev.esoul.cz/?osr_event=19
STATUS:CONFIRMED
END:VEVENT
END:VCALENDAR
