BEGIN:VCALENDAR
VERSION:2.0
PRODID:-//Outdoor Survival//Rezervacni system//CS
CALSCALE:GREGORIAN
METHOD:PUBLISH
BEGIN:VEVENT
UID:osr-event-22@wp1.dev.esoul.cz
DTSTAMP:20260425T010941Z
DTSTART:20260911T150000Z
DTEND:20260913T110000Z
SUMMARY:FAMILY SURVIVAL - 3 DNY - BRNO
LOCATION:Brněnsko
DESCRIPTION:Zábavnou formou se děti s rodiči učí techniky přežití\, rozdělávání ohně...\\n\\nVíce informací: https://wp1.dev.esoul.cz/?osr_event=22
STATUS:CONFIRMED
END:VEVENT
END:VCALENDAR
