BEGIN:VCALENDAR
VERSION:2.0
PRODID:-//Outdoor Survival//Rezervacni system//CS
CALSCALE:GREGORIAN
METHOD:PUBLISH
BEGIN:VEVENT
UID:osr-event-23@wp1.dev.esoul.cz
DTSTAMP:20260425T011033Z
DTSTART:20260918T150000Z
DTEND:20260920T110000Z
SUMMARY:TEENAGER SURVIVAL - SE ZÁKONNÝM ZÁSTUPCEM
LOCATION:Domažlicko
DESCRIPTION:Kurzy jsou zaměřené jak na děti\, tak na dorost a jejich obtížnost odpovídá výkonosti mládeže.\\n\\nVíce informací: https://wp1.dev.esoul.cz/?osr_event=23
STATUS:CONFIRMED
END:VEVENT
END:VCALENDAR
