BEGIN:VCALENDAR
VERSION:2.0
PRODID:-//Outdoor Survival//Rezervacni system//CS
CALSCALE:GREGORIAN
METHOD:PUBLISH
BEGIN:VEVENT
UID:osr-event-25@wp1.dev.esoul.cz
DTSTAMP:20260425T011109Z
DTSTART:20261009T150000Z
DTEND:20261011T110000Z
SUMMARY:URBAN SURVIVAL
LOCATION:Domažlicko
DESCRIPTION:Přemýšlíte o tom\, jak by fungovala společnost po případném kolapsu?\\n\\nVíce informací: https://wp1.dev.esoul.cz/?osr_event=25
STATUS:CONFIRMED
END:VEVENT
END:VCALENDAR
