BEGIN:VCALENDAR
VERSION:2.0
PRODID:-//Outdoor Survival//Rezervacni system//CS
CALSCALE:GREGORIAN
METHOD:PUBLISH
BEGIN:VEVENT
UID:osr-event-26@wp1.dev.esoul.cz
DTSTAMP:20260425T011033Z
DTSTART:20261016T150000Z
DTEND:20261018T110000Z
SUMMARY:URBAN SURVIVAL
LOCATION:Domažlicko
DESCRIPTION:Přemýšlíte o tom\, jak by fungovala společnost po případném kolapsu?\\n\\nVíce informací: https://wp1.dev.esoul.cz/?osr_event=26
STATUS:CONFIRMED
END:VEVENT
END:VCALENDAR
