BEGIN:VCALENDAR
VERSION:2.0
PRODID:-//Outdoor Survival//Rezervacni system//CS
CALSCALE:GREGORIAN
METHOD:PUBLISH
BEGIN:VEVENT
UID:osr-event-27@wp1.dev.esoul.cz
DTSTAMP:20260425T011042Z
DTSTART:20261030T160000Z
DTEND:20261101T120000Z
SUMMARY:SURVIVAL - ÚROVEŇ 2
LOCATION:Domažlicko
DESCRIPTION:Klademe důraz na vlastní iniciativu účastníků a převádění teoretických znalostí do praxe při každé příležitosti.\\n\\nVíce informací: https://wp1.dev.esoul.cz/?osr_event=27
STATUS:CONFIRMED
END:VEVENT
END:VCALENDAR
