BEGIN:VCALENDAR
VERSION:2.0
PRODID:-//Outdoor Survival//Rezervacni system//CS
CALSCALE:GREGORIAN
METHOD:PUBLISH
BEGIN:VEVENT
UID:osr-event-28@wp1.dev.esoul.cz
DTSTAMP:20260425T011034Z
DTSTART:20261106T160000Z
DTEND:20261108T120000Z
SUMMARY:SURVIVAL - ÚROVEŇ 2
LOCATION:Domažlicko
DESCRIPTION:Klademe důraz na vlastní iniciativu účastníků a převádění teoretických znalostí do praxe při každé příležitosti.\\n\\nVíce informací: https://wp1.dev.esoul.cz/?osr_event=28
STATUS:CONFIRMED
END:VEVENT
END:VCALENDAR
