BEGIN:VCALENDAR
VERSION:2.0
PRODID:-//Outdoor Survival//Rezervacni system//CS
CALSCALE:GREGORIAN
METHOD:PUBLISH
BEGIN:VEVENT
UID:osr-event-29@wp1.dev.esoul.cz
DTSTAMP:20260425T011110Z
DTSTART:20261114T070000Z
DTEND:20261115T130000Z
SUMMARY:MEDIK - 2 DENNÍ KURZ
LOCATION:Praha
DESCRIPTION:Základní praktické i teoretické dovednosti při řešení kritických stavů.\\n\\nVíce informací: https://wp1.dev.esoul.cz/?osr_event=29
STATUS:CONFIRMED
END:VEVENT
END:VCALENDAR
