BEGIN:VCALENDAR
VERSION:2.0
PRODID:-//Outdoor Survival//Rezervacni system//CS
CALSCALE:GREGORIAN
METHOD:PUBLISH
BEGIN:VEVENT
UID:osr-event-31@wp1.dev.esoul.cz
DTSTAMP:20260425T011042Z
DTSTART:20261127T160000Z
DTEND:20261129T120000Z
SUMMARY:SURVIVAL - ÚROVEŇ 3
LOCATION:Domažlicko
DESCRIPTION:Extrémní nauka - nutné znalosti z předchozí úrovně.\\n\\nVíce informací: https://wp1.dev.esoul.cz/?osr_event=31
STATUS:CONFIRMED
END:VEVENT
END:VCALENDAR
